BEGIN:VCALENDAR
VERSION:2.0
PRODID:-//ChamberMaster//Event Calendar 2.0//EN
METHOD:PUBLISH
X-PUBLISHED-TTL:P1H
REFRESH-INTERVAL:P1H
CALSCALE:GREGORIAN
BEGIN:VTIMEZONE
TZID:America/Chicago
BEGIN:DAYLIGHT
RRULE:FREQ=YEARLY;BYMONTH=3;BYDAY=2SU
DTSTART:20070101T000000
TZOFFSETFROM:-0600
TZOFFSETTO:-0500
TZNAME:Central Daylight Time
END:DAYLIGHT
BEGIN:STANDARD
RRULE:FREQ=YEARLY;BYMONTH=11;BYDAY=1SU
DTSTART:20070101T000000
TZOFFSETFROM:-0500
TZOFFSETTO:-0600
TZNAME:Central Standard Time
END:STANDARD
END:VTIMEZONE
BEGIN:VEVENT
DTSTART;TZID=America/Chicago:20260528T170000
DTEND;TZID=America/Chicago:20260528T190000
X-MICROSOFT-CDO-ALLDAYEVENT:FALSE
SUMMARY:Q2 Mixer
DESCRIPTION:Kick back and connect at our Q2 Mixer hosted by The Stolen Coin! Accelerate your business by maximizing your Chamber benefits!
X-ALT-DESC;FMTTYPE=text/html:Kick back and connect at our Q2 Mixer hosted by The Stolen Coin! Accelerate your business by maximizing your Chamber benefits!
LOCATION:110 S Main St Gainesboro TN 38562
UID:e.1811.1445176
SEQUENCE:3
DTSTAMP:20260423T163623Z
URL:https://business.gainesborochamber.org/events/Details/q2-mixer-1711683?sourceTypeId=Hub
END:VEVENT
END:VCALENDAR
